BEGIN:VCALENDAR
VERSION:2.0
PRODID:-//pretix//pretix.eu//
BEGIN:VTIMEZONE
TZID:Europe/Prague
BEGIN:STANDARD
DTSTART:20001029T040000
RRULE:FREQ=YEARLY;BYDAY=-1SU;BYMONTH=10
TZNAME:CET
TZOFFSETFROM:+0200
TZOFFSETTO:+0100
END:STANDARD
BEGIN:DAYLIGHT
DTSTART:20000326T030000
RRULE:FREQ=YEARLY;BYDAY=-1SU;BYMONTH=3
TZNAME:CEST
TZOFFSETFROM:+0100
TZOFFSETTO:+0200
END:DAYLIGHT
END:VTIMEZONE
BEGIN:VEVENT
UID:pretix-stolarna-NASTOJAKA2025-2-0@vstupenky.stolarnaclub.cz
DTSTART;TZID=Europe/Prague:20251119T190000
DTEND;TZID=Europe/Prague:20251119T200000
DESCRIPTION:Vstupenky: https://vstupenky.stolarnaclub.cz/NASTOJAKA2025-2/\n
 Vstup: 19.11.2025 18:00\nPořadatel: Stolárna Club
DTSTAMP:20260425T035459Z
LOCATION:hudební klub STOLÁRNA\, Lašská 19\, Havířov
SUMMARY:NA STOJÁKA Jiří Jakima * Ester Kočičková * Petr Vydra
END:VEVENT
END:VCALENDAR
