BEGIN:VCALENDAR
VERSION:2.0
PRODID:-//pretix//pretix.eu//
BEGIN:VTIMEZONE
TZID:Europe/Prague
BEGIN:STANDARD
DTSTART:20001029T040000
RRULE:FREQ=YEARLY;BYDAY=-1SU;BYMONTH=10
TZNAME:CET
TZOFFSETFROM:+0200
TZOFFSETTO:+0100
END:STANDARD
BEGIN:DAYLIGHT
DTSTART:20000326T030000
RRULE:FREQ=YEARLY;BYDAY=-1SU;BYMONTH=3
TZNAME:CEST
TZOFFSETFROM:+0100
TZOFFSETTO:+0200
END:DAYLIGHT
END:VTIMEZONE
BEGIN:VEVENT
UID:pretix-stolarna-POLETIME2025-0@vstupenky.stolarnaclub.cz
DTSTART;TZID=Europe/Prague:20251114T200000
DTEND;TZID=Europe/Prague:20251114T210000
DESCRIPTION:Vstupenky: https://vstupenky.stolarnaclub.cz/POLETIME2025/\nVst
 up: 14.11.2025 19:00\nPořadatel: Stolárna Club
DTSTAMP:20260425T035830Z
LOCATION:hudební klub STOLÁRNA\, Lašská 19\, Havířov
SUMMARY:POLETÍME?
END:VEVENT
END:VCALENDAR
