BEGIN:VCALENDAR
VERSION:2.0
PRODID:-//pretix//pretix.eu//
BEGIN:VTIMEZONE
TZID:Europe/Prague
BEGIN:STANDARD
DTSTART:20001029T040000
RRULE:FREQ=YEARLY;BYDAY=-1SU;BYMONTH=10
TZNAME:CET
TZOFFSETFROM:+0200
TZOFFSETTO:+0100
END:STANDARD
BEGIN:DAYLIGHT
DTSTART:20000326T030000
RRULE:FREQ=YEARLY;BYDAY=-1SU;BYMONTH=3
TZNAME:CEST
TZOFFSETFROM:+0100
TZOFFSETTO:+0200
END:DAYLIGHT
END:VTIMEZONE
BEGIN:VEVENT
UID:pretix-stolarna-MB2026-0@vstupenky.stolarnaclub.cz
DTSTART;TZID=Europe/Prague:20260327T200000
DTEND;TZID=Europe/Prague:20260327T210000
DESCRIPTION:Vstupenky: https://vstupenky.stolarnaclub.cz/MB2026/\nVstup: 27
 .03.2026 19:00\nPořadatel: Stolárna Club
DTSTAMP:20260424T074120Z
LOCATION:hudební klub STOLÁRNA\, Lašská 19\, Havířov
SUMMARY:MONKEY BUSINESS
END:VEVENT
BEGIN:VEVENT
UID:pretix-stolarna-MILOSDRUM-0@vstupenky.stolarnaclub.cz
DTSTART;TZID=Europe/Prague:20260410T200000
DTEND;TZID=Europe/Prague:20260410T210000
DESCRIPTION:Vstupenky: https://vstupenky.stolarnaclub.cz/MILOSDRUM/\nVstup:
  10.04.2026 19:00\nPořadatel: Stolárna Club
DTSTAMP:20260424T074120Z
LOCATION:hudební klub STOLÁRNA\, Lašská 19\, Havířov
SUMMARY:MILOŠ MEIER - DRUMMING SYNDROME
END:VEVENT
BEGIN:VEVENT
UID:pretix-stolarna-NASTOJAKA2026-0@vstupenky.stolarnaclub.cz
DTSTART;TZID=Europe/Prague:20260419T190000
DTEND;TZID=Europe/Prague:20260419T200000
DESCRIPTION:Vstupenky: https://vstupenky.stolarnaclub.cz/NASTOJAKA2026/\nVs
 tup: 19.04.2026 18:00\nPořadatel: Stolárna Club
DTSTAMP:20260424T074120Z
LOCATION:hudební klub STOLÁRNA\, Lašská 19\, Havířov
SUMMARY:NA STOJÁKA Karel Hynek * Kateřina Hašková * Zbyněk Vičar
END:VEVENT
BEGIN:VEVENT
UID:pretix-stolarna-MACHACEK-0@vstupenky.stolarnaclub.cz
DTSTART;TZID=Europe/Prague:20260920T190000
DTEND;TZID=Europe/Prague:20260920T200000
DESCRIPTION:Vstupenky: https://vstupenky.stolarnaclub.cz/MACHACEK/\nVstup: 
 20.09.2026 18:00\nPořadatel: Stolárna Club
DTSTAMP:20260424T074120Z
LOCATION:hudební klub STOLÁRNA\, Lašská 19\, Havířov
SUMMARY:LIBOR MACHÁČEK „Pořádná práce"
END:VEVENT
BEGIN:VEVENT
UID:pretix-stolarna-ZN26-0@vstupenky.stolarnaclub.cz
DTSTART;TZID=Europe/Prague:20261213T190000
DTEND;TZID=Europe/Prague:20261213T200000
DESCRIPTION:Vstupenky: https://vstupenky.stolarnaclub.cz/ZN26/\nVstup: 13.1
 2.2026 18:00\nPořadatel: Stolárna Club
DTSTAMP:20260424T074120Z
LOCATION:hudební klub STOLÁRNA\, Lašská 19\, Havířov
SUMMARY:POCTA ZUZANĚ NAVAROVÉ
END:VEVENT
END:VCALENDAR
